Workbook

Sheet PROYECTOS 2023
J2: 1er. Trimestre | O2: 2do. Trimestre | T2: 3er. Trimestre | Y2: 4to. Trimestre
B3: PROYECTO1.- MANTENIMIENTO DE ESPACIOS PÚBLICOS | C3: Asignación Inicial | D3: Reformas | H3: Codificado | J3: Comprom. | K3: Devengado | L3: Pagado | M3: Saldo por Comprometer | N3: Saldo por devengar | O3: Comprom. | P3: Devengado | Q3: Pagado | R3: Saldo por Comprometer | S3: Saldo por devengar | T3: Comprom. | U3: Devengado | V3: Pagado | W3: Saldo por Comprometer | X3: Saldo por devengar | Y3: Comprom. | Z3: Devengado | AA3: Pagado | AB3: Saldo por Comprometer | AC3: Saldo por devengar | AD3: total pagado | AE3: Total Comprometido | AF3: Total Devengado | AG3: Saldo por Comprometer | AH3: Saldo por devengar
B4: GASTOS DE INVERSION
A5: 71 | B5: GASTOS EN PERSONAL PARA INVERSION
A6: 7101050 | B6: Remuneraciones Unificadas | C6: 5400 | H6: =+C6+D6 -> 5400 | I6: =+H6 -> 5400 | J6: 1350 | K6: 1350 | L6: 1273.57 | M6: =+H6-J6 -> 4050 | N6: =+H6-K6 -> 4050 | O6: 1350 | P6: 1350 | Q6: 942.52 | R6: =+M6-O6 -> 2700 | S6: =+N6-P6 -> 2700 | T6: 1350 | U6: 1350 | V6: 1748.48 | W6: =+R6-T6 -> 1350 | X6: =+S6-U6 -> 1350 | Y6: 1350 | Z6: 1350 | AA6: 1350.02 | AB6: =+W6-Y6 -> 0 | AC6: =+X6-Z6 -> 0 | AD6: =+L6+Q6+V6+AA6 -> 5314.59 | AE6: =+J6+O6+T6+Y6 -> 5400 | AF6: =+Z6+U6+P6+K6 -> 5400 | AG6: =+H6-AE6 -> 0 | AH6: =+H6-AF6 -> 0
A7: 7102030 | B7: Decimotercer Sueldo | C7: 450 | H7: =+C7+D7 -> 450 | I7: =+H7 -> 450 | J7: 0 | K7: 0 | L7: 0 | M7: =+H7-J7 -> 450 | N7: =+H7-K7 -> 450 | O7: 0 | P7: 0 | Q7: 0 | R7: =+N7-O7 -> 450 | S7: =+N7-P7 -> 450 | T7: 0 | U7: 0 | V7: 0 | W7: =+R7-T7 -> 450 | X7: =+S7-U7 -> 450 | Y7: 447.92 | Z7: 447.92 | AA7: 447.92 | AB7: =+W7-Y7 -> 2.08 | AC7: =+X7-Z7 -> 2.08 | AD7: =+L7+Q7+V7+AA7 -> 447.92 | AE7: =+Y7+T7+O7+J7 -> 447.92 | AF7: =+Z7+U7+P7+K7 -> 447.92 | AG7: =+H7-AE7 -> 2.08 | AH7: =+H7-AF7 -> 2.08
A8: 7102040 | B8: Decimocuarto Sueldo | C8: 450 | H8: =+C8+D8 -> 450 | I8: =+H8 -> 450 | J8: 0 | K8: 0 | L8: 0 | M8: =+H8-J8 -> 450 | N8: =+H8-K8 -> 450 | O8: 0 | P8: 0 | Q8: 0 | R8: =+N8-O8 -> 450 | S8: =+N8-P8 -> 450 | T8: 450 | U8: 450 | V8: 450 | W8: =+R8-T8 -> 0 | X8: =+S8-U8 -> 0 | Y8: 0 | Z8: 0 | AA8: 0 | AB8: =+W8-Y8 -> 0 | AC8: =+X8-Z8 -> 0 | AD8: =+L8+Q8+V8+AA8 -> 450 | AE8: =+Y8+T8+O8+J8 -> 450 | AF8: =+Z8+U8+P8+K8 -> 450 | AG8: =+H8-AE8 -> 0 | AH8: =+H8-AF8 -> 0
A9: 7106010 | B9: Aporte Patronal | C9: 602.1 | D9: 80 | H9: =+C9+D9 -> 682.1 | I9: =+H9 -> 682.1 | J9: 157.29 | K9: 157.29 | L9: 104.86 | M9: =+H9-J9 -> 524.81 | N9: =+H9-K9 -> 524.81 | O9: 157.28 | P9: 157.28 | Q9: 157.28 | R9: =+N9-O9 -> 367.53 | S9: =+N9-P9 -> 367.53 | T9: 157.28 | U9: 157.28 | V9: 157.28 | W9: =+R9-T9 -> 210.25 | X9: =+S9-U9 -> 210.25 | Y9: 157.29 | Z9: 157.29 | AA9: 157.26 | AB9: =+W9-Y9 -> 52.96 | AC9: =+X9-Z9 -> 52.96 | AD9: =+L9+Q9+V9+AA9 -> 576.68 | AE9: =+Y9+T9+O9+J9 -> 629.14 | AF9: =+Z9+U9+P9+K9 -> 629.14 | AG9: =+H9-AE9 -> 52.96 | AH9: =+H9-AF9 -> 52.96
A10: 7106020 | B10: Fondo de Reserva | C10: 449.82 | D10: 20 | H10: =+C10+D10 -> 469.82 | I10: =+H10 -> 469.82 | J10: 112.47 | K10: 112.47 | L10: 112.47 | M10: =+H10-J10 -> 357.35 | N10: =+H10-K10 -> 357.35 | O10: 112.47 | P10: 112.47 | Q10: 74.98 | R10: =+N10-O10 -> 244.88 | S10: =+N10-P10 -> 244.88 | T10: 112.47 | U10: 112.47 | V10: 149.96 | W10: =+R10-T10 -> 132.41 | X10: =+S10-U10 -> 132.41 | Y10: 112.5 | Z10: 112.5 | AA10: 112.5 | AB10: =+W10-Y10 -> 19.91 | AC10: =+X10-Z10 -> 19.91 | AD10: =+L10+Q10+V10+AA10 -> 449.91 | AE10: =+Y10+T10+O10+J10 -> 449.91 | AF10: =+Z10+U10+P10+K10 -> 449.91 | AG10: =+H10-AE10 -> 19.91 | AH10: =+H10-AF10 -> 19.91
A11: 7107070 | B11: Compensacion por Vacaciones no Gozadas por Cesacion de Funciones | C11: 394 | D11: -394 | H11: =+C11+D11 -> 0 | I11: =+C11+D11 -> 0 | K11: 0 | L11: 0 | M11: =+H11-J11 -> 0 | N11: =+H11-K11 -> 0 | O11: 0 | P11: 0 | Q11: 0 | R11: =+M11-O11 -> 0 | S11: =+N11-P11 -> 0 | T11: 0 | U11: 0 | V11: 0 | W11: =+R11-T11 -> 0 | X11: =+S11-U11 -> 0 | Y11: 0 | Z11: 0 | AA11: 0 | AB11: =+W11-Y11 -> 0 | AC11: =+X11-Z11 -> 0 | AD11: =+L11+Q11+V11+AA11 -> 0 | AE11: =+Y11+T11+O11+H11 -> 0 | AF11: =+Z11+U11+P11+K11 -> 0 | AG11: =+H11-AE11 -> 0 | AH11: =+H11-AF11 -> 0
C12: =SUM(C6:C11) -> 7745.92 | I12: =SUM(I6:I11) -> 7451.92 | J12: =SUM(J6:J11) -> 1619.76 | K12: =SUM(K6:K11) -> 1619.76 | L12: =SUM(L6:L11) -> 1490.9 | M12: =SUM(M6:M11) -> 5832.16 | N12: =SUM(N6:N11) -> 5832.16 | O12: =SUM(O6:O11) -> 1619.75 | P12: =SUM(P6:P11) -> 1619.75 | ... AH12: =SUM(AH6:AH11) -> 74.95
A13: 73 | B13: BIENES Y SERVICIOS PARA INVERSION | AG13: =+H13-AE13 -> 0 | AH13: =+H13-AF13 -> 0
A14: 7308040 | B14: Materiales de Oficina | C14: 60 | D14: -20 | H14: =+C14+D14 -> 40 | J14: 0 | K14: 0 | L14: 0 | M14: =+H14-J14 -> 40 | N14: =+H14-K14 -> 40 | O14: 0 | P14: 0 | Q14: 0 | R14: =+M14-O14 -> 40 | S14: =+N14-P14 -> 40 | T14: 0 | U14: 0 | V14: 0 | W14: =+R14-T14 -> 40 | X14: =+S14-U14 -> 40 | Y14: 0 | Z14: 0 | AA14: 0 | AB14: =+W14-Y14 -> 40 | AC14: =+X14-Z14 -> 40 | AE14: =+Y14+T14+O14+J14 -> 0 | AF14: =+Z14+U14+P14+K14 -> 0 | AG14: =+H14-AE14 -> 40 | AH14: =+H14-AF14 -> 40
A15: 7308050 | B15: Materiales de Aseo | C15: 300 | D15: -80 | H15: =+C15+D15 -> 220 | J15: 0 | K15: 0 | L15: 0 | M15: =+H15-J15 -> 220 | N15: =+H15-K15 -> 220 | O15: 0 | P15: 0 | Q15: 0 | R15: =+M15-O15 -> 220 | S15: =+N15-P15 -> 220 | T15: 0 | U15: 0 | V15: 0 | W15: =+R15-T15 -> 220 | X15: =+S15-U15 -> 220 | Y15: 0 | Z15: 0 | AA15: 0 | AB15: =+W15-Y15 -> 220 | AC15: =+X15-Z15 -> 220 | AE15: =+Y15+T15+O15+J15 -> 0 | AF15: =+Z15+U15+P15+K15 -> 0 | AG15: =+H15-AE15 -> 220 | AH15: =+H15-AF15 -> 220
A16: 7308110 | B16: Materiales de Construccion, Electricos, Plomeria y Carpinteria | C16: 94.08 | H16: =+C16+D16 -> 94.08 | J16: 0 | K16: 0 | L16: 0 | M16: =+H16-J16 -> 94.08 | N16: =+H16-K16 -> 94.08 | O16: 0 | P16: 0 | Q16: 0 | R16: =+M16-O16 -> 94.08 | S16: =+N16-P16 -> 94.08 | T16: 0 | U16: 0 | V16: 0 | W16: =+R16-T16 -> 94.08 | X16: =+S16-U16 -> 94.08 | Y16: 0 | Z16: 0 | AA16: 0 | AB16: =+W16-Y16 -> 94.08 | AC16: =+X16-Z16 -> 94.08 | AE16: =+Y16+T16+O16+J16 -> 0 | AF16: =+Z16+U16+P16+K16 -> 0 | AG16: =+H16-AE16 -> 94.08 | AH16: =+H16-AF16 -> 94.08
A17: 7308200 | B17: Menaje de Cocina, de Hogar, Accesorios Descartables y Accesorios de O | C17: 200 | H17: =+C17+D17 -> 200 | J17: 0 | K17: 0 | L17: 0 | M17: =+H17-J17 -> 200 | N17: =+H17-K17 -> 200 | O17: 0 | P17: 0 | Q17: 0 | R17: =+M17-O17 -> 200 | S17: =+N17-P17 -> 200 | T17: 0 | U17: 0 | V17: 0 | W17: =+R17-T17 -> 200 | X17: =+S17-U17 -> 200 | Y17: 0 | Z17: 0 | AA17: 0 | AB17: =+W17-Y17 -> 200 | AC17: =+X17-Z17 -> 200 | AE17: =+Y17+T17+O17+J17 -> 0 | AF17: =+Z17+U17+P17+K17 -> 0 | AG17: =+H17-AE17 -> 200 | AH17: =+H17-AF17 -> 200
C18: =SUM(C6:C17) -> 16145.92 | D18: =SUM(D6:D17) -> -394 | H18: =SUM(H6:H17) -> 8006 | J18: =SUM(J6:J17) -> 3239.52 | K18: =SUM(K6:K17) -> 3239.52 | L18: =SUM(L6:L17) -> 2981.8 | M18: =SUM(M6:M17) -> 12218.4 | N18: =SUM(N6:N17) -> 12218.4 | O18: =SUM(O6:O17) -> 3239.5 | P18: =SUM(P6:P17) -> 3239.5 | Q18: =SUM(Q6:Q17) -> 2349.56 | ... AC18: =SUM(AC6:AC17) -> 703.98 | AE18: =SUM(AE6:AE17) -> 14753.94 | AF18: =SUM(AF6:AF17) -> 14753.94 | AG18: =SUM(AG6:AG17) -> 703.98 | AH18: =SUM(AH6:AH17) -> 703.98
C20: 7451.92
J24: 1er. Trimestre | O24: 2do. Trimestre | T24: 3er. Trimestre | Y24: 4to. Trimestre
B25: PROYECTO 2.- GRUPOS DE ATENCION PRIORITARIA DE LA PARR. SAN GERARDO | C25: Asignación Inicial | D25: Reforma I | E25: Reforma II | F25: Reforma III | G25: Reforma IV | H25: Codificado | I25: Codificado final | J25: Comprom. | K25: Devengado | L25: Pagado | M25: Saldo por Comprometer | N25: Saldo por devengar | O25: Comprom. | P25: Devengado | Q25: Pagado | R25: Saldo por Comprometer | S25: Saldo por devengar | T25: Comprom. | U25: Devengado | V25: Pagado | W25: Saldo por Comprometer | X25: Saldo por devengar | Y25: Comprom. | Z25: Devengado | AA25: Pagado | AB25: Saldo por Comprometer | AC25: Saldo por devengar | AE25: Total Comprometido | AF25: Total Devengado | AG25: Saldo por Comprometer | AH25: Saldo por devengar
A26: 73 | B26: BIENES Y SERVICIOS PARA INVERSION
A27: 730105 | B27: Telecomunicaciones | C27: 1100 | D27: 0 | E27: 0 | H27: =+C27+D27 -> 1100 | I27: =+H27 -> 1100 | J27: 180 | K27: 180 | L27: 178.35 | M27: =+H27-J27 -> 920 | N27: =+H27-K27 -> 920 | O27: 180 | P27: 180 | Q27: 180 | R27: =+N27-O27 -> 740 | S27: =+N27-P27 -> 740 | T27: 180 | U27: 180 | V27: 180 | W27: =+S27-T27 -> 560 | X27: =+S27-U27 -> 560 | Y27: 180 | Z27: 180 | AA27: 180 | AB27: =+W27-Y27 -> 380 | AC27: =+X27-Z27 -> 380 | AD27: =+L27+Q27+V27+AA27 -> 718.35
A28: 730205 | B28: Espectaculos Culturales y Sociales | C28: 0 | D28: 1000 | E28: 0 | H28: 1000 | I28: =+H28 -> 1000 | J28: 0 | K28: 0 | L28: 0 | M28: =+H28-J28 -> 1000 | N28: =+H28-K28 -> 1000 | O28: 0 | P28: 0 | Q28: 0 | R28: =+N28-O28 -> 1000 | S28: =+N28-P28 -> 1000 | T28: 450 | U28: 450 | V28: 450 | W28: =+S28-T28 -> 550 | X28: =+S28-U28 -> 550 | Y28: 450 | Z28: 450 | AA28: 450 | AB28: =+X28-Y28 -> 100 | AC28: =+X28-Z28 -> 100 | AD28: =+L28+Q28+V28+AA28 -> 900
A29: 730235 | B29: Servicio de Alimentacion | C29: 1500 | D29: 0 | E29: 1500 | F29: 100 | H29: =+C29+E29 -> 3000 | I29: =+C29+E29+F29 -> 3100 | J29: 932.65 | K29: 932.65 | L29: 932.65 | M29: =+C29-J29 -> 567.35 | N29: =+C29-K29 -> 567.35 | O29: 585.85 | P29: 585.85 | Q29: 585.85 | R29: =+M29+E29-O29 -> 1481.5 | S29: =+N29+E29-P29 -> 1481.5 | T29: 300 | U29: 300 | V29: 300 | W29: =+S29+F29-T29 -> 1281.5 | X29: =+S29+F29-U29 -> 1281.5 | Y29: 1200 | Z29: 1200 | AA29: 1200 | AB29: =+X29-Y29 -> 81.5 | AC29: =+X29-Z29 -> 81.5 | AD29: =+L29+Q29+V29+AA29 -> 3018.5
A30: 730505 | B30: Vehiculos | C30: 500 | D30: 0 | E30: 1500 | G30: -700 | H30: =+C30+E30 -> 2000 | I30: 1089.29 | J30: 0 | K30: 0 | L30: 0 | M30: =+C30-J30 -> 500 | N30: =+C30-K30 -> 500 | O30: 680 | P30: 680 | Q30: 680 | R30: =+M30+E30-O30 -> 1320 | S30: =+N30+E30-P30 -> 1320 | T30: 0 | U30: 0 | V30: 0 | W30: =+S30-T30 -> 1320 | X30: =+S30-U30 -> 1320 | Y30: 400 | Z30: 400 | AA30: 400 | AB30: =+X30+G30-Y30 -> 220 | AC30: =+X30+G30-Z30 -> 220 | AD30: =+L30+Q30+V30+AA30 -> 1080
A31: 730605 | B31: Estudio y Diseno de Proyectos | C31: 6822.92 | D31: 0 | E31: 0 | F31: -100 | G31: -5626 | H31: =+C31+D31 -> 6822.92 | I31: =+C31+F31+G31 -> 1096.92 | J31: 0 | K31: 0 | L31: 0 | M31: =+H31-J31 -> 6822.92 | N31: =+H31-K31 -> 6822.92 | O31: 0 | P31: 0 | R31: =+M31-O31 -> 6822.92 | S31: =+N31-P31 -> 6822.92 | T31: 0 | U31: 0 | V31: 0 | W31: =+C31+F31 -> 6722.92 | X31: =+C31+F31 -> 6722.92 | Y31: 0 | Z31: 0 | AA31: 0 | AB31: =+X31+G31-Y31 -> 1096.92 | AC31: =+Y31+H31-Z31 -> 6822.92 | AD31: =+L31+Q31+V31+AA31 -> 0
A32: 730801 | B32: Alimentos y Bebidas | C32: 6000 | D32: 0 | E32: 0 | H32: =+C32+D32 -> 6000 | I32: =+H32 -> 6000 | J32: 1628.74 | K32: 1628.74 | L32: 1602.13 | M32: =+H32-J32 -> 4371.26 | N32: =+H32-K32 -> 4371.26 | Q32: 26.61 | R32: =+M32-O32 -> 4371.26 | S32: =+N32-P32 -> 4371.26 | T32: 1197.64 | U32: 1197.64 | V32: 1197.64 | W32: =+S32-T32 -> 3173.62 | X32: =+S32-U32 -> 3173.62 | Y32: 2500 | Z32: 2500 | AA32: 2500 | AB32: =+W32-Y32 -> 673.62 | AC32: =+X32-Z32 -> 673.62 | AD32: =+L32+Q32+V32+AA32 -> 5326.38
A33: 730802 | B33: Vestuario, Lenceria y Prendas de Proteccion | C33: 200 | D33: 0 | E33: 0 | F33: 0 | G33: 0 | H33: =+C33+D33 -> 200 | I33: =+H33 -> 200 | J33: 159.15 | K33: 159.15 | L33: 159.15 | M33: =+H33-J33 -> 40.85 | N33: =+H33-K33 -> 40.85 | O33: 0 | P33: 0 | Q33: 0 | R33: =+M33-O33 -> 40.85 | S33: =+N33-P33 -> 40.85 | T33: 0 | U33: 0 | V33: 0 | W33: =+R33-T33 -> 40.85 | X33: =+S33-U33 -> 40.85 | Y33: 0 | Z33: 0 | AA33: 0 | AB33: =+W33-Y33 -> 40.85 | AC33: =+X33-Z33 -> 40.85 | AD33: =+L33+Q33+V33+AA33 -> 159.15
C34: =SUM(C27:C33) -> 16122.92 | D34: =SUM(D27:D32) -> 1000 | E34: =SUM(E27:E32) -> 3000 | F34: =SUM(F27:F32) -> 0 | G34: =SUM(G27:G32) -> -6326 | H34: =SUM(H27:H33) -> 20122.92 | I34: =SUM(I27:I33) -> 13586.21 | J34: =SUM(J27:J33) -> 2900.54 | K34: =SUM(K27:K33) -> 2900.54 | L34: =SUM(L27:L33) -> 2872.28 | O34: =SUM(O27:O33) -> 1445.85 | P34: =SUM(P27:P32) -> 1445.85 | Q34: =SUM(Q27:Q32) -> 1472.46 | T34: =SUM(T27:T32) -> 2127.64 | U34: =SUM(U27:U32) -> 2127.64 | V34: =SUM(V27:V32) -> 2127.64 | Y34: =SUM(Y27:Y32) -> 4730 | Z34: =SUM(Z27:Z32) -> 4730 | AA34: =SUM(AA27:AA32) -> 4730 | AD34: =+L34+Q34+V34+AA34 -> 11202.38
D35: =SUM(D34:G34) -> -2326
B38: PROYECTO 3.- PRESUPUESTO PARTICIPATIVO COMUNIDADES | C38: Asignación Inicial | D38: Reforma I | E38: Reforma II | F38: Reforma III | G38: Reforma IV | H38: Codificado | I38: Codificado final | J38: Comprom. | K38: Devengado | L38: Pagado | M38: Saldo por Comprometer | N38: Saldo por devengar | O38: Comprom. | P38: Devengado | Q38: Pagado | R38: Saldo por Comprometer | S38: Saldo por devengar | T38: Comprom. | U38: Devengado | V38: Pagado | W38: Saldo por Comprometer | X38: Saldo por devengar | Y38: Comprom. | Z38: Devengado | AA38: Pagado | AB38: Saldo por Comprometer | AC38: Saldo por devengar | AE38: Total Comprometido | AF38: Total Devengado | AG38: Saldo por Comprometer | AH38: Saldo por devengar
A39: 7 | B39: GASTOS DE INVERSION
A40: 73 | B40: BIENES Y SERVICIOS PARA INVERSION
A41: 730205 | B41: Espectaculos Culturales y Sociales | C41: 0 | F41: 2000 | H41: 2000 | I41: =+H41 -> 2000 | J41: 2000 | K41: 2000 | L41: 2000 | M41: =+H41-J41 -> 0 | N41: =+H41-K41 -> 0
A42: 730505 | B42: Vehiculos | C42: 0 | F42: 210.71 | H42: =+C42 -> 0 | I42: =+F42 -> 210.71 | J42: 200 | K42: 200 | L42: 200 | M42: =+H42-J42 -> -200 | N42: =+H42-K42 -> -200 | O42: 10.71 | P42: 10.71 | Q42: 10.71 | R42: =+M42-O42 -> -210.71 | S42: =+N42-P42 -> -210.71 | T42: 0 | U42: 0 | V42: 0 | W42: =+R42 -> -210.71 | X42: =+S42 -> -210.71 | AE42: =+J42+O42+T42+Y42 -> 210.71 | AF42: =+Z42+U42+P42+K42 -> 210.71 | AG42: =+H42-AE42 -> -210.71
A43: 730605 | B43: Estudio y Diseno de Proyectos | C43: 4000 | D43: 780.7 | E43: 0 | F43: 0 | G43: 0 | H43: =+C43+D43 -> 4780.7 | I43: =+H43 -> 4780.7 | J43: 0 | K43: 0 | L43: 0 | M43: =+H43-J43 -> 4780.7 | N43: =+H43-K43 -> 4780.7 | O43: 1500 | P43: 1500 | Q43: 1500 | R43: =+N43-O43 -> 3280.7 | S43: =+N43-P43 -> 3280.7 | T43: 0 | U43: 0 | V43: 0 | W43: =+R43-T43 -> 3280.7 | X43: =+S43-U43 -> 3280.7 | Y43: 0 | Z43: 0 | AA43: 0 | AB43: =+W43-Y43 -> 3280.7 | AC43: =+X43-Z43 -> 3280.7 | AE43: =+Y43+T43+O43+J43 -> 1500 | AF43: =+Z43+U43+P43+K43 -> 1500 | AG43: =+H43-AE43 -> 3280.7
A44: 730811 | B44: Materiales de Construccion, Electricos, Plomeria y Carpinteria | C44: 900 | D44: 0 | E44: 10000 | F44: 0 | G44: 0 | H44: =+C44+D44 -> 900 | I44: =+C44+E44 -> 10900 | J44: 0 | K44: 0 | L44: 0 | M44: =+H44-J44 -> 900 | N44: =+H44-K44 -> 900 | O44: 8964 | P44: 8964 | Q44: 8516.81 | R44: =+E44+H44-O44 -> 1936 | S44: =+E44+H44-P44 -> 1936 | T44: 0 | U44: 0 | V44: 0 | W44: =+R44-T44 -> 1936 | X44: =+S44-U44 -> 1936 | Y44: 350.42 | Z44: 1215.06 | AA44: 1199.93 | AB44: =+W44-Y44 -> 1585.58 | AC44: =+X44-Z44 -> 720.94 | AE44: =+Y44+T44+O44+J44 -> 9314.42 | AF44: =+Z44+U44+P44+K44 -> 10179.06 | AG44: =+H44-AE44 -> -8414.42
A45: 730812 | B45: Materiales Didacticos | C45: 1000 | D45: 0 | E45: 0 | F45: 0 | G45: 1110 | H45: =+C45+D45 -> 1000 | I45: =+C45+G45 -> 2110 | J45: 304.57 | K45: 304.57 | L45: 301.15 | M45: =+H45-J45 -> 695.43 | N45: =+H45-K45 -> 695.43 | O45: 0 | P45: 0 | Q45: 3 | R45: =+M45-O45 -> 695.43 | S45: =+N45-P45 -> 695.43 | T45: 0 | U45: 0 | V45: 0 | W45: =+R45-T45 -> 695.43 | X45: =+S45-U45 -> 695.43 | Y45: 886.8 | Z45: 886.8 | AA45: 886.8 | AB45: =+G45+X45-Y45 -> 918.63 | AC45: =+X45+G45-Z45 -> 918.63 | AE45: =+Y45+T45+O45+J45 -> 1191.37 | AF45: =+Z45+U45+P45+K45 -> 1191.37 | AG45: =+H45-AE45 -> -191.37
A46: 731408 | B46: Bienes Artisticos y Culturales | C46: 400 | D46: 0 | E46: 0 | F46: 0 | G46: 0 | H46: =+C46+D46 -> 400 | I46: =+H46 -> 400 | J46: 332.15 | K46: 332.15 | L46: 332.15 | M46: =+H46-J46 -> 67.85 | N46: =+H46-K46 -> 67.85 | O46: 0 | P46: 0 | Q46: 0 | R46: =+M46-O46 -> 67.85 | S46: =+N46-P46 -> 67.85 | T46: 0 | U46: 0 | V46: 0 | W46: =+R46-T46 -> 67.85 | X46: =+S46-U46 -> 67.85 | Y46: 0 | Z46: 0 | AA46: 0 | AB46: =+W46-Y46 -> 67.85 | AC46: =+X46-Z46 -> 67.85 | AE46: =+#REF!+#REF!+#REF!+#REF! -> #REF! | AF46: =+#REF!+#REF!+#REF!+#REF! -> #REF! | AG46: =+#REF!-AE46 -> #REF!
A47: 731515 | B47: Plantas | C47: 2900 | D47: 0 | E47: 0 | F47: 0 | G47: -1110 | H47: =+C47+G47 -> 1790 | I47: =+H47 -> 1790 | J47: 1306.8 | K47: 1306.8 | L47: 1306.8 | M47: =+H47-J47 -> 483.2 | N47: =+H47-K47 -> 483.2 | O47: 0 | P47: 0 | Q47: 0 | R47: =+M47-O47 -> 483.2 | S47: =+N47-P47 -> 483.2 | T47: 0 | U47: 0 | V47: 0 | W47: =+R47-T47 -> 483.2 | X47: =+S47-U47 -> 483.2 | Y47: 0 | Z47: 0 | AA47: 0 | AB47: =+W47-Y47 -> 483.2 | AC47: =+X47-Z47 -> 483.2 | AE47: =+Y47+T47+O47+H47 -> 1790 | AF47: =+Z47+U47+P47+K47 -> 1306.8 | AG47: =+AC47 -> 483.2
...

Sheet POA_2023
B1: PLAN OPERATIVO ANUAL 2023 GADP SAN GERARDO
B3: PROYECTO/ PROGRAMA: | D3: 1
B4: SERVICIOS COMUNALES
B5: PROGRAMA | C5: MANTENIMIENTO DE ESPACIOS PUBLICOS DE LA PARROQUIA
B6: Departamento / Unidad | C6: Comisón de Urbanismo y Fiscalización
B7: META PDOT | C7: INCREMENTAR DEL 0 AL 1,4 AL ÍNDICE VERDE URBANO PARROQUIAL HASTA EL 2023.
B8: INDICADOR PDOT | C8: Nùmero de metros de ìndice verde urbano construidos en la parroquia.
B9: SUBPROGRAMAS | C9: ACTIVIDADES | D9: META | F9: FUENTE DE VERIFICACIÓN | G9: DENOMINACIÓN DE PARTIDA | H9: GASTO ANUAL | M9: CRONOGRAMA DE GASTO TRIMESTRAL | Q9: RESPONSA BLE
D10: UNIDAD | E10: RESULTADO | H10: COD Partida | I10: COD FINAL | J10: CODIFICADO INICIAL | K10: FUENTE DE FINANCIAMIENTO | L10: Monto total | M10: 1er. Trimestre | N10: 2do. Trimestre | O10: 3er. Trimestre | P10: 4to Trimestre
B11: Mantenimiento de áreas públicas y áreas verdes en la parroquia | C11: Limpieza, cuidado y creación de áreas verdes y áreas públicas | D11: % | E11: 100 | F11: CONTRATOS, PAGOS, INFORMES | G11: GASTOS EN PERSONAL | H11: 7100000 | I11: 7451.92 | J11: 7745.92 | K11: TRANSFERENCIAS DEL GOBIERNO | L11: =SUM(I11:I11) -> 7451.92 | M11: 1850 | N11: 1850 | O11: 1850 | P11: 1901.92
B12: TOTAL | I12: =SUM(I11:I11) -> 7451.92 | J12: =SUM(J11:J11) -> 7745.92 | K12: TOTAL | L12: =SUM(L11) -> 7451.92 | M12: =SUM(M11:M11) -> 1850 | N12: =SUM(N11:N11) -> 1850 | O12: =SUM(O11:O11) -> 1850 | P12: =SUM(P11:P11) -> 1901.92
B14: PROYECTO/ PROGRAMA: | D14: 2
B15: SERVICIOS COMUNALES
B16: PROGRAMA | C16: GRUPOS DE ATENCION PRIORITARIA DE LA PARROQUIA SAN GERARDO
B17: Departamento / Unidad | C17: Comisón de Social, Cultural, Deportivo de Igualdad y Género
B18: META PDOT | C18: Incrementar un 30% de participación del grupo de atención prioritaria en actividades motivacionales, lúdicas y recreativas hasta el 2023
B19: INDICADOR PDOT | C19: % de participación de grupos de atención prioritaria activos e integrados en diferentes actividades
B20: SUBPROGRAMAS | C20: ACTIVIDADES | D20: META | F20: FUENTE DE VERIFICACIÓN | G20: DENOMINACIÓN DE PARTIDA | H20: GASTO ANUAL | M20: CRONOGRAMA DE GASTO TRIMESTRAL | Q20: RESPONSA BLE
D21: UNIDAD | E21: RESULTADO | H21: COD Partida | I21: COD FINAL | J21: CODIFICADO INICIAL | K21: FUENTE DE FINANCIAMIENTO | L21: Monto total | M21: 1er. Trimestre | N21: 2do. Trimestre | O21: 3er. Trimestre | P21: 4to Trimestre
B22: Programa de atención a grupos de atención prioritaria de la parroqui San Gerardo | C22: Realizar actividades lúdicas, motivacionales, y recreativas que integren a los grupos vulnerables (adultos mayores, y personas con capacidades especiales de la parroquia) | D22: % | E22: 100 | F22: FACTURAS E INFORMES | G22: Telecomunicaciones | H22: 730105 | I22: 1100 | J22: 1100 | K22: TRANSFERENCIAS DEL GOBIERNO | L22: =SUM(I22:I27) -> 13386.21 | M22: 300 | N22: 300 | O22: 300 | P22: 200
G23: Espectaculos Culturales y Sociales | H23: 730205 | I23: 1000 | J23: 0 | M23: 0 | N23: 0 | O23: 500 | P23: 500
G24: Servicio de Alimentacion | H24: 730235 | I24: 3100 | J24: 1500 | M24: 0 | N24: 1000 | O24: 1000 | P24: 1100
G25: Vehiculos | H25: 730505 | I25: 1089.29 | J25: 500 | M25: 100 | N25: 289.29 | O25: 400 | P25: 300
G26: Estudio y Diseño de Proyectos | H26: 730605 | I26: 1096.92 | J26: 6822.92 | M26: 0 | N26: 0 | O26: 500 | P26: 596.92
G27: Alimentos y Bebidas | H27: 730801 | I27: 6000 | J27: 6000 | M27: 1000 | N27: 2000 | O27: 1000 | P27: 2000
G28: Vestuario, Lenceria y Prendas de Proteccion | H28: 730802 | I28: 200 | J28: 200 | O28: 200
B29: TOTAL | I29: =SUM(I22:I28) -> 13586.21 | J29: =SUM(J22:J28) -> 16122.92 | K29: TOTAL | L29: =SUM(L22) -> 13386.21 | M29: =SUM(M22:M28) -> 1400 | N29: =SUM(N22:N28) -> 3589.29 | O29: =SUM(O22:O28) -> 3900 | P29: =SUM(P22:P28) -> 4696.92
B31: PROYECTO/ PROGRAMA: | D31: 3
B32: SERVICIOS COMUNALES
B33: PROGRAMA | C33: PROYECTO PARTICIPATIVO COMUNIDADES SAN GERARDO
B34: Departamento / Unidad | C34: Comisón de Producción, Turismo, Medio Ambiente y Organización Social
B35: META PDOT | C35: INCREMENTAR AL 28% EL ACCESO A RIEGO TECNIFICADO EN LA PARROQUIA HASTA EL 2023
B36: INDICADOR PDOT | C36: % de familias con acceso a riego tecnificado
B37: SUBPROGRAMAS | C37: ACTIVIDADES | D37: META | F37: FUENTE DE VERIFICACIÓN | G37: DENOMINACIÓN DE PARTIDA | H37: GASTO ANUAL | M37: CRONOGRAMA DE GASTO TRIMESTRAL | Q37: RESPONSABLE
D38: UNIDAD | E38: RESULTADO | H38: COD Partida | I38: COD FINAL | J38: CODIFICADO INICIAL | K38: FUENTE DE FINANCIAMIENTO | L38: Monto total | M38: 1er. Trimestre | N38: 2do. Trimestre | O38: 3er. Trimestre | P38: 4to Trimestre
B39: Entrega de insumos y capacitaciones | C39: Entrega de insumos y capacitaciones | D39: % | E39: 100 | F39: FACTURAS E INFORMES | G39: Espectaculos Culturales y Sociales | H39: 730205 | I39: 2000 | J39: 0 | K39: TRANSFERENCIAS DEL GOBIERNO | L39: =SUM(I39:I46) -> 27763.71 | M39: 0 | N39: 1000 | O39: 0 | P39: 1000
G40: Vehiculos | H40: 730505 | I40: 210.71 | J40: 0 | M40: 0 | N40: 110.71 | P40: 100
G41: Estudio y Diseno de Proyectos | H41: 730605 | I41: 4780.7 | J41: 4000 | M41: 1000 | N41: 1000 | O41: 1000 | P41: 1780.7
G42: Materiales de Construccion, Electricos, Plomeria y Carpinteria | H42: 730811 | I42: 10900 | J42: 900 | M42: 0 | N42: 5000 | O42: 5000 | P42: 900
G43: Materiales Didacticos | H43: 730812 | I43: 2110 | J43: 1000 | N43: 1000 | O43: 1110
...

Sheet MATRIZ SIGAD 
A1: MATRIZ DE INFORMACIÓN SIGAD
A2: EJECICIO FISCAL: | B2: 2023
A3: RAZON SOCIAL:
A4: RUC:
A6: PLANIFICACIÓN | O6: SEGUIMIENTO
O7: AVANCE PRESUPUESTO | AG7: DEVENGADO FINAL | AH7: PAGADO FINAL
A8: Objetivos de Desarrollo Sostenible (ODS) | B8: Objetivo del Plan Nacional Desarrollo | C8: Meta PND (meta para la zona) | D8: Competencias GAD | E8: Objetivo del PDOT | F8: Meta de resultados del PDOT | G8: Indicador | H8: Línea base | I8: Año Línea base | J8: Año de cumplimiento de la meta | K8: Meta acumulada anual | L8: Valor real acumulado para el año | M8: Programa | N8: Proyecto | O8: Codificado inicial/Asignacion Inicial | P8: Codificado final / Codificado | Q8: PRIMER TRIMESTRE | U8: SEGUNDO TRIMESTRE | Y8: TERCER TRIMESTRE | AC8: CUARTO TRIMESTRE
P10: Reforma | Q10: Codificado programado | R10: Devengado | S10: Pagado | T10: % Ejecución | U10: Codificado programado | V10: Devengado | W10: Pagado | X10: % Ejecución | Y10: Codificado programado | Z10: Devengado | AA10: Pagado | AB10: % Ejecución | AC10: Codificado programado | AD10: Devengado | AE10: Pagado | AF10: % Ejecución
A11: 8 | B11: 2 | C11: 2.3.1 | E11: Gestionar el mejoramiento de la cobertura y la calidad de los servicios básicos (agua potable, alcantarillado, recolección de basura e infraestructura y áreas verdes de recreación para brindar un servicio de calidad, accesibildad que contribuyan a la mejor calidad de vida de la ciudadaníade la parroquia | F11: INCREMENTAR DEL 0 AL 1.4 EL ÍNDICEVERDE URBANO PARROQUIAL HASTA EL 2023 | G11: Número de metros de índice verde urbano costruidos en la parroquia | H11: 0 | I11: 2019 | J11: 2023 | K11: 1.4 | L11: 1.4 | N11: =+POA_2023!C5 -> MANTENIMIENTO DE ESPACIOS PUBLICOS DE LA PARROQUIA | O11: =+POA_2023!J11 -> 7745.92 | P11: =+POA_2023!I11 -> 7451.92 | Q11: =+POA_2023!M12 -> 1850 | R11: =+'PROYECTOS 2023'!K12 -> 1619.76 | S11: =+'PROYECTOS 2023'!L12 -> 1490.9 | T11: =IF(Q11=0,0,R11/Q11) -> 0.87554595 | U11: =+POA_2023!N12 -> 1850 | V11: =+'PROYECTOS 2023'!P12 -> 1619.75 | W11: =+'PROYECTOS 2023'!Q12 -> 1174.78 | X11: =IF(U11=0,0,V11/U11) -> 0.87554054 | Y11: =+POA_2023!O12 -> 1850 | Z11: =+'PROYECTOS 2023'!U12 -> 2069.75 | AA11: =+'PROYECTOS 2023'!V12 -> 2505.72 | AB11: =IF(Y11=0,0,Z11/Y11) -> 1.1187838 | AC11: =+POA_2023!P12 -> 1901.92 | AD11: =+'PROYECTOS 2023'!Z12 -> 2067.71 | AE11: =+'PROYECTOS 2023'!AA12 -> 2067.7 | AF11: =IF(AC11=0,0,AD11/AC11) -> 1.0871698 | AG11: =R11+V11+Z11+AD11 -> 7376.97 | AH11: =S11+W11+AA11+AE11 -> 7239.1
A12: 3 | B12: 6 | C12: 6.7.4 | E12: Contribuir al mejoramiento de los servicios sociales y el fortalecimiento de la cohesión social, mediante gestiones de cooperación que permitan reducir los índices de pobreza y lograr consolidar una atención integral para todos los grupos vulnerables de la parroquia. | F12: Incrementar un 30% de participación del grupo de atención prioritaria en actividades motivacionales, lúdicas y recreativas hasta el 2023 | G12: % de participación de grupos de atención prioritaria activos e integrados en diferentes actividades | H12: 60 | I12: 2019 | J12: 2023 | K12: 90 | L12: 90 | N12: ATENCIÓN A GRUPOS DE ATENCIÓN PRIORITARIA DE LA PAROQUIA DE SAN GERARDO | O12: =+'PROYECTOS 2023'!C34 -> 16122.92 | P12: =+'PROYECTOS 2023'!I34 -> 13586.21 | Q12: =+POA_2023!M29 -> 1400 | R12: =+'PROYECTOS 2023'!K34 -> 2900.54 | S12: =+'PROYECTOS 2023'!L34 -> 2872.28 | T12: =IF(Q12=0,0,R12/Q12) -> 2.0718143 | U12: =+POA_2023!N29 -> 3589.29 | V12: =+'PROYECTOS 2023'!P34 -> 1445.85 | W12: =+'PROYECTOS 2023'!Q34 -> 1472.46 | X12: =IF(U12=0,0,V12/U12) -> 0.4028234 | Y12: =+POA_2023!O29 -> 3900 | Z12: =+'PROYECTOS 2023'!U34 -> 2127.64 | AA12: =+'PROYECTOS 2023'!V34 -> 2127.64 | AB12: =IF(Y12=0,0,Z12/Y12) -> 0.54554872 | AC12: =+POA_2023!P29 -> 4696.92 | AD12: =+'PROYECTOS 2023'!Z34 -> 4730 | AE12: 4730 | AF12: =IF(AC12=0,0,AD12/AC12) -> 1.0070429 | AG12: =R12+V12+Z12+AD12 -> 11204.03 | AH12: =S12+W12+AA12+AE12 -> 11202.38
A13: 6 | B13: 3 | C13: 3.1.4 | E13: Impulsar un desarrollo integral, conservando los ecosistemas naturales para reducir la contaminación de fuentes hídricas y fortalecer la capacidad de mitigación y adaptación ante los efectos del cambio climático en la parroquia San Gerardo. | F13: INCREMENTAR AL 28% EL ACCESO A RIEGO TECNIFICADO EN LA PARROQUIA HASTA EL 2023 | G13: % de familias con acceso a riego tecnificado | H13: 0 | I13: 2019 | J13: 2023 | K13: 0.28 | L13: 0.25 | M13: PRESUPUESTO PARTICIPATIVO COMUNIDADES SAN GERARDO | N13: ATENCIÓN MEDIANTE PRESUPUESTO PARTICIPATIVO COMUNIDADES SAN GERARDO | O13: =+'PROYECTOS 2023'!C49 -> 9200 | P13: =+'PROYECTOS 2023'!I49 -> 27763.71 | Q13: =+POA_2023!M47 -> 2500 | R13: =+'PROYECTOS 2023'!K49 -> 4715.82 | S13: =+'PROYECTOS 2023'!L49 -> 4712.4 | T13: =IF(Q13=0,0,R13/Q13) -> 1.886328 | U13: =+POA_2023!N47 -> 10710.71 | V13: =+'PROYECTOS 2023'!P49 -> 10474.71 | W13: =+'PROYECTOS 2023'!Q49 -> 10030.52 | X13: =IF(U13=0,0,V13/U13) -> 0.97796598 | Y13: =+POA_2023!O47 -> 7700 | Z13: =+'PROYECTOS 2023'!U49 -> 5000 | AA13: =+'PROYECTOS 2023'!V49 -> 5000 | AB13: =IF(Y13=0,0,Z13/Y13) -> 0.64935065 | AC13: =+POA_2023!P47 -> 6853 | AD13: =+'PROYECTOS 2023'!Z49 -> 2101.86 | AE13: =+'PROYECTOS 2023'!AA49 -> 2086.73 | AF13: =IF(AC13=0,0,AD13/AC13) -> 0.30670655 | AG13: =R13+V13+Z13+AD13 -> 22292.39 | AH13: =S13+W13+AA13+AE13 -> 21829.65
A14: 16 | B14: 15 | C14: 4.1.1 | E14: Promover la organización de los ciudadanos de las comunas, recintos y demás asentamientos rurales con el carácter de organizaciones territoriales de base. | F14: INCREMENTAR UN 10% LA GESTION INSTITUCIONAL DEL GAD PARROQUIAL SAN GERARDO HASTA EL 2023 | G14: % de Gestión Institucional del GAD Parroquial | H14: 80 | I14: 2019 | J14: 2023 | K14: 90 | L14: 90 | N14: FORTALECIM IENTO DEL GAD PARROQUIAL | O14: 18144 | P14: 15144 | Q14: =+POA_2023!M58 -> 4320 | R14: =+'PROYECTOS 2023'!K62 -> 3200 | S14: 3200 | T14: =IF(Q14=0,0,R14/Q14) -> 0.74074074 | U14: =+POA_2023!N58 -> 4320 | V14: 1200 | W14: 920 | X14: =IF(U14=0,0,V14/U14) -> 0.27777778 | Y14: =+POA_2023!O58 -> 4320 | Z14: 2773.33 | AA14: 2936 | AB14: =IF(Y14=0,0,Z14/Y14) -> 0.64197454 | AC14: =+POA_2023!P58 -> 2184 | AD14: 7625 | AE14: 7574.83 | AF14: =IF(AC14=0,0,AD14/AC14) -> 3.4913004 | AG14: =R14+V14+Z14+AD14 -> 14798.33 | AH14: =S14+W14+AA14+AE14 -> 14630.83
A15: 8 | B15: 2 | C15: 2.3.1 | E15: Gestionar el mejoramiento de la cobertura y la calidad de los servicios básicos (agua potable, alcantarillado, recolección de basura e infraestructura y áreas verdes de recreación para brindar un servicio de calidad, accesibildad que contribuyan a la mejor calidad de vida de la ciudadaníade la parroquia | F15: INCREMENTAR DEL 0 AL 1.4 AL INDICE VERDE URBANO PARROQUIAL HASTA EL 2023 | G15: Nùmero de metros de ìndice verde urbano construidos en la parroquia. | H15: 0 | I15: 2019 | J15: 2023 | K15: 1.4 | L15: 1.4 | N15: MEJORAMIENTO DE INFRAESTRUCTURA DE LA PARROQUIA SAN GERARDO | O15: =+'PROYECTOS 2023'!C73 -> 86200 | P15: =+'PROYECTOS 2023'!I73 -> 88600 | Q15: =+POA_2023!M73 -> 0 | R15: =+'PROYECTOS 2023'!K73 -> 0 | S15: =+'PROYECTOS 2023'!L73 -> 0 | T15: =IF(Q15=0,0,R15/Q15) -> 0 | U15: =+POA_2023!N73 -> 24500 | V15: =+'PROYECTOS 2023'!P73 -> 52843.3 | W15: =+'PROYECTOS 2023'!Q73 -> 52688.45 | X15: =IF(U15=0,0,V15/U15) -> 2.1568694 | Y15: =+POA_2023!O73 -> 26300 | Z15: =+'PROYECTOS 2023'!U73 -> 31577.26 | AA15: =+'PROYECTOS 2023'!V73 -> 31727.26 | AB15: =IF(Y15=0,0,Z15/Y15) -> 1.2006563 | AC15: =+POA_2023!P73 -> 37800 | AD15: =+'PROYECTOS 2023'!Z73 -> 0 | AE15: =+'PROYECTOS 2023'!AA73 -> 0 | AF15: =IF(AC15=0,0,AD15/AC15) -> 0 | AG15: =R15+V15+Z15+AD15 -> 84420.56 | AH15: =S15+W15+AA15+AE15 -> 84415.71
A16: 9 | B16: 2 | C16: 2.2.3 | E16: Mejorar la red vial rural de la parroquia para brindar un servicio de calidad, accesibilidd, reducción de tiempos, potenciar el coercio y productividd de la población | F16: DAR MANTENIMIENTO A 7KM DE VÍAS RURALES DE LA PARROQUIA CADA AÑO HASTA 2023 | G16: Kilómetros de vías más críticas con mantenimiento periódico ejecutado en la parroquia | H16: 0 | I16: 2019 | J16: 2023 | K16: 7 | L16: 7 | M16: PRESUPUESTO PARTICIPATIVO COMUNIDADES SAN GERARDO | N16: MANTENIMIENTO VIAL COMUNIDADES | O16: =+'PROYECTOS 2023'!C85 -> 12300 | P16: =+'PROYECTOS 2023'!H85 -> 66600.11 | Q16: =+POA_2023!M86 -> 20000 | R16: =+'PROYECTOS 2023'!K85 -> 56525.09 | S16: =+'PROYECTOS 2023'!L85 -> 26152.64 | T16: =IF(Q16=0,0,R16/Q16) -> 2.8262545 | U16: =+POA_2023!N86 -> 21000 | V16: =+'PROYECTOS 2023'!P85 -> 0 | W16: =+'PROYECTOS 2023'!Q85 -> 30372.45 | X16: =IF(U16=0,0,V16/U16) -> 0 | Y16: =+POA_2023!O86 -> 16300 | Z16: =+'PROYECTOS 2023'!U85 -> 0 | AA16: =+'PROYECTOS 2023'!V85 -> 0 | AB16: =IF(Y16=0,0,Z16/Y16) -> 0 | AC16: =+POA_2023!P86 -> 9300.11 | AD16: =+'PROYECTOS 2023'!Z85 -> 7154.64 | AE16: =+'PROYECTOS 2023'!AA85 -> 6290 | AF16: =IF(AC16=0,0,AD16/AC16) -> 0.76930703 | AG16: =R16+V16+Z16+AD16 -> 63679.73 | AH16: =S16+W16+AA16+AE16 -> 62815.09
F17: INCREMENTAR AL 30% EL NIVEL DE PARTICIPACIÓN DE LA POBLACIÓN HACIA UN DESARROLLO CULTURAL DE LA PARROQUIA HASTA EL 2023 | G17: % de participación de la población en el desasrrollo cultural de la parroquia | H17: 70 | I17: 2019 | J17: 2023 | K17: 100 | L17: 100 | N17: ILUMINACION ARTISTICA Y DECORATIVA DE LA PARROQUIA | O17: =+'PROYECTOS 2023'!C89 -> 3500 | P17: =+'PROYECTOS 2023'!H89 -> 3500 | Q17: =+POA_2023!M97 -> 0 | R17: =+'PROYECTOS 2023'!K89 -> 0 | S17: =+'PROYECTOS 2023'!L89 -> 0 | T17: =IF(Q17=0,0,R17/Q17) -> 0 | U17: =+POA_2023!N97 -> 0 | V17: =+'PROYECTOS 2023'!P89 -> 0 | W17: =+'PROYECTOS 2023'!Q89 -> 0 | X17: =IF(U17=0,0,V17/U17) -> 0 | Y17: =+POA_2023!O97 -> 0 | Z17: =+'PROYECTOS 2023'!U89 -> 0 | AA17: =+'PROYECTOS 2023'!V89 -> 0 | AB17: =IF(Y17=0,0,Z17/Y17) -> 0 | AC17: =+POA_2023!P97 -> 3594.08 | AD17: =+'PROYECTOS 2023'!Z89 -> 3053.06 | AE17: =+'PROYECTOS 2023'!AA89 -> 3053.06 | AF17: =IF(AC17=0,0,AD17/AC17) -> 0.84946913 | AG17: =R17+V17+Z17+AD17 -> 3053.06 | AH17: =S17+W17+AA17+AE17 -> 3053.06
